BEGIN:VCALENDAR
VERSION:2.0
PRODID:Cal_App//Daily@Planet
METHOD:PUBLISH
BEGIN:VEVENT
DTSTART;TZID=CET:20240608T100000
DTEND;TZID=CET:20240608T235900
LOCATION: 
DTSTAMP:20260421T083900
SUMMARY:Schützenfest 2024
URL;VALUE=URI:https://martinusschuetzen.de/event/schuetzenfest-2024/
DESCRIPTION:
CLASS:PUBLIC
UID:896
END:VEVENT
END:VCALENDAR
