BEGIN:VCALENDAR
VERSION:2.0
PRODID:Cal_App//Daily@Planet
METHOD:PUBLISH
BEGIN:VEVENT
DTSTART;TZID=CET:20251122T193000
DTEND;TZID=CET:20251122T203000
LOCATION: 
DTSTAMP:20260421T094900
SUMMARY:Weihnachtszauber
URL;VALUE=URI:https://martinusschuetzen.de/event/christmas-opening/
DESCRIPTION:
CLASS:PUBLIC
UID:5600
END:VEVENT
END:VCALENDAR
