BEGIN:VCALENDAR
VERSION:2.0
PRODID:Cal_App//Daily@Planet
METHOD:PUBLISH
BEGIN:VEVENT
DTSTART;TZID=CET:20250823T170000
DTEND;TZID=CET:20250823T180000
LOCATION: 
DTSTAMP:20260421T095300
SUMMARY:Biwak
URL;VALUE=URI:https://martinusschuetzen.de/event/biwak/
DESCRIPTION:
CLASS:PUBLIC
UID:5464
END:VEVENT
END:VCALENDAR
