BEGIN:VCALENDAR
VERSION:2.0
PRODID:Cal_App//Daily@Planet
METHOD:PUBLISH
BEGIN:VEVENT
DTSTART;TZID=CET:20251010T193000
DTEND;TZID=CET:20251010T203000
LOCATION: 
DTSTAMP:20260422T081000
SUMMARY:Generalversammlung
URL;VALUE=URI:https://martinusschuetzen.de/event/generalversammlung-2/
DESCRIPTION:
CLASS:PUBLIC
UID:5456
END:VEVENT
END:VCALENDAR
