BEGIN:VCALENDAR
VERSION:2.0
PRODID:Cal_App//Daily@Planet
METHOD:PUBLISH
BEGIN:VEVENT
DTSTART;TZID=CET:20250628T090000
DTEND;TZID=CET:20250628T100000
LOCATION: 
DTSTAMP:20260421T094300
SUMMARY:Schützenfest 2025 Samstag
URL;VALUE=URI:https://martinusschuetzen.de/event/schuetzenfest-2025-5396/
DESCRIPTION:
CLASS:PUBLIC
UID:5396
END:VEVENT
END:VCALENDAR
