BEGIN:VCALENDAR
VERSION:2.0
PRODID:Cal_App//Daily@Planet
METHOD:PUBLISH
BEGIN:VEVENT
DTSTART;TZID=CET:20250617T170000
DTEND;TZID=CET:20250617T180000
LOCATION: 
DTSTAMP:20260421T021500
SUMMARY:Fähnchen aufhängen
URL;VALUE=URI:https://martinusschuetzen.de/event/faehnchen-aufhaengen-2/
DESCRIPTION:
CLASS:PUBLIC
UID:5395
END:VEVENT
END:VCALENDAR
