BEGIN:VCALENDAR
VERSION:2.0
PRODID:Cal_App//Daily@Planet
METHOD:PUBLISH
BEGIN:VEVENT
DTSTART;TZID=CET:20250405T100000
DTEND;TZID=CET:20250405T110000
LOCATION: 
DTSTAMP:20260421T100700
SUMMARY:Festumzug Tag der Feuerwehrmusik
URL;VALUE=URI:https://martinusschuetzen.de/event/festumzug-tag-der-feuerwehrmusik/
DESCRIPTION:
CLASS:PUBLIC
UID:5327
END:VEVENT
END:VCALENDAR
