BEGIN:VCALENDAR
VERSION:2.0
PRODID:Cal_App//Daily@Planet
METHOD:PUBLISH
BEGIN:VEVENT
DTSTART;TZID=CET:20250407T193000
DTEND;TZID=CET:20250407T203000
LOCATION: 
DTSTAMP:20260421T112000
SUMMARY:Treffen der Sammler
URL;VALUE=URI:https://martinusschuetzen.de/event/treffen-der-sammler-2/
DESCRIPTION:
CLASS:PUBLIC
UID:5320
END:VEVENT
END:VCALENDAR
