BEGIN:VCALENDAR
VERSION:2.0
PRODID:Cal_App//Daily@Planet
METHOD:PUBLISH
BEGIN:VEVENT
DTSTART;TZID=CET:20250321T190000
DTEND;TZID=CET:20250321T200000
LOCATION: 
DTSTAMP:20260421T122600
SUMMARY:Doppelkopfturnier
URL;VALUE=URI:https://martinusschuetzen.de/event/doppelkopfturnier/
DESCRIPTION:
CLASS:PUBLIC
UID:5250
END:VEVENT
END:VCALENDAR
