BEGIN:VCALENDAR
VERSION:2.0
PRODID:Cal_App//Daily@Planet
METHOD:PUBLISH
BEGIN:VEVENT
DTSTART;TZID=CET:20250627T180000
DTEND;TZID=CET:20250627T190000
LOCATION: 
DTSTAMP:20260421T094100
SUMMARY:Schützenfest 2025 Freitag
URL;VALUE=URI:https://martinusschuetzen.de/event/schuetzenfest-2025/
DESCRIPTION:
CLASS:PUBLIC
UID:5174
END:VEVENT
END:VCALENDAR
