BEGIN:VCALENDAR
VERSION:2.0
PRODID:Cal_App//Daily@Planet
METHOD:PUBLISH
BEGIN:VEVENT
DTSTART;TZID=CET:20240607T190000
DTEND;TZID=CET:20240607T235900
LOCATION: 
DTSTAMP:20260421T111600
SUMMARY:Schützenfest 2024
URL;VALUE=URI:https://martinusschuetzen.de/event/schuetzenfest-5122/
DESCRIPTION:
CLASS:PUBLIC
UID:5122
END:VEVENT
END:VCALENDAR
