BEGIN:VCALENDAR
VERSION:2.0
PRODID:Cal_App//Daily@Planet
METHOD:PUBLISH
BEGIN:VEVENT
DTSTART;TZID=CET:20241011T193000
DTEND;TZID=CET:20241011T203000
LOCATION: 
DTSTAMP:20260421T095700
SUMMARY:Generalversammlung
URL;VALUE=URI:https://martinusschuetzen.de/event/generalversammlung/
DESCRIPTION:
CLASS:PUBLIC
UID:5042
END:VEVENT
END:VCALENDAR
