BEGIN:VCALENDAR
VERSION:2.0
PRODID:Cal_App//Daily@Planet
METHOD:PUBLISH
BEGIN:VEVENT
DTSTART;TZID=CET:20240528T170000
DTEND;TZID=CET:20240528T180000
LOCATION: 
DTSTAMP:20260421T100000
SUMMARY:Fähnchen aufhängen
URL;VALUE=URI:https://martinusschuetzen.de/event/faehnchen-aufhaengen/
DESCRIPTION:
CLASS:PUBLIC
UID:4780
END:VEVENT
END:VCALENDAR
