BEGIN:VCALENDAR
VERSION:2.0
PRODID:Cal_App//Daily@Planet
METHOD:PUBLISH
BEGIN:VEVENT
DTSTART;TZID=CET:20240601T160000
DTEND;TZID=CET:20240601T170000
LOCATION: 
DTSTAMP:20260421T082400
SUMMARY:Kordelschießen
URL;VALUE=URI:https://martinusschuetzen.de/event/kordelschiessen-4750/
DESCRIPTION:
CLASS:PUBLIC
UID:4750
END:VEVENT
END:VCALENDAR
