BEGIN:VCALENDAR
VERSION:2.0
PRODID:Cal_App//Daily@Planet
METHOD:PUBLISH
BEGIN:VEVENT
DTSTART;TZID=CET:20240531T180000
DTEND;TZID=CET:20240531T190000
LOCATION: 
DTSTAMP:20260421T095500
SUMMARY:Kordelschießen
URL;VALUE=URI:https://martinusschuetzen.de/event/kordelschiessen/
DESCRIPTION:
CLASS:PUBLIC
UID:4749
END:VEVENT
END:VCALENDAR
