BEGIN:VCALENDAR
VERSION:2.0
PRODID:Cal_App//Daily@Planet
METHOD:PUBLISH
BEGIN:VEVENT
DTSTART;TZID=CET:20240318T193000
DTEND;TZID=CET:20240318T203000
LOCATION: 
DTSTAMP:20260421T082300
SUMMARY:Treffen der Sammler
URL;VALUE=URI:https://martinusschuetzen.de/event/treffen-der-sammler/
DESCRIPTION:
CLASS:PUBLIC
UID:4267
END:VEVENT
END:VCALENDAR
